BEGIN:VCALENDAR
VERSION:2.0
PRODID:-//PYVOBJECT//NONSGML Version 0.9.9//EN
BEGIN:VTIMEZONE
TZID:CET
BEGIN:STANDARD
DTSTART:20001029T040000
RRULE:FREQ=YEARLY;BYDAY=-1SU;BYMONTH=10
TZNAME:CET
TZOFFSETFROM:+0200
TZOFFSETTO:+0100
END:STANDARD
BEGIN:DAYLIGHT
DTSTART:20000326T030000
RRULE:FREQ=YEARLY;BYDAY=-1SU;BYMONTH=3
TZNAME:CEST
TZOFFSETFROM:+0100
TZOFFSETTO:+0200
END:DAYLIGHT
END:VTIMEZONE
BEGIN:VEVENT
UID:event-60
DTSTART;TZID=CET:20260505T123000
DTEND;TZID=CET:20260505T131500
DESCRIPTION:Info-Veranstaltung "Bureaucracy in Action!" - Veranstaltung
DTSTAMP:20260420T133432Z
LOCATION:Via Zoom. Link wird am Morgen der Veranstaltung verschickt.
SUMMARY:Info-Veranstaltung "Bureaucracy in Action!"
URL:https://nwm-mitglieder.de/events/60/
END:VEVENT
END:VCALENDAR
